BEGIN:VCALENDAR
VERSION:2.0
PRODID:-//Theatergroep PIT - ECPv6.15.20//NONSGML v1.0//EN
CALSCALE:GREGORIAN
METHOD:PUBLISH
X-ORIGINAL-URL:https://theatergroeppit.nl
X-WR-CALDESC:Evenementen voor Theatergroep PIT
REFRESH-INTERVAL;VALUE=DURATION:PT1H
X-Robots-Tag:noindex
X-PUBLISHED-TTL:PT1H
BEGIN:VTIMEZONE
TZID:Europe/Amsterdam
BEGIN:DAYLIGHT
TZOFFSETFROM:+0100
TZOFFSETTO:+0200
TZNAME:CEST
DTSTART:20240331T010000
END:DAYLIGHT
BEGIN:STANDARD
TZOFFSETFROM:+0200
TZOFFSETTO:+0100
TZNAME:CET
DTSTART:20241027T010000
END:STANDARD
BEGIN:DAYLIGHT
TZOFFSETFROM:+0100
TZOFFSETTO:+0200
TZNAME:CEST
DTSTART:20250330T010000
END:DAYLIGHT
BEGIN:STANDARD
TZOFFSETFROM:+0200
TZOFFSETTO:+0100
TZNAME:CET
DTSTART:20251026T010000
END:STANDARD
BEGIN:DAYLIGHT
TZOFFSETFROM:+0100
TZOFFSETTO:+0200
TZNAME:CEST
DTSTART:20260329T010000
END:DAYLIGHT
BEGIN:STANDARD
TZOFFSETFROM:+0200
TZOFFSETTO:+0100
TZNAME:CET
DTSTART:20261025T010000
END:STANDARD
BEGIN:DAYLIGHT
TZOFFSETFROM:+0100
TZOFFSETTO:+0200
TZNAME:CEST
DTSTART:20270328T010000
END:DAYLIGHT
BEGIN:STANDARD
TZOFFSETFROM:+0200
TZOFFSETTO:+0100
TZNAME:CET
DTSTART:20271031T010000
END:STANDARD
END:VTIMEZONE
BEGIN:VEVENT
DTSTART;TZID=Europe/Amsterdam:20260411T201500
DTEND;TZID=Europe/Amsterdam:20260411T223000
DTSTAMP:20260425T183333
CREATED:20250716T142554Z
LAST-MODIFIED:20260309T090851Z
UID:5261-1775938500-1775946600@theatergroeppit.nl
SUMMARY:11 April 2026 – Theater het Badhuis Nijmegen [uitverkocht]
DESCRIPTION:
URL:https://theatergroeppit.nl/voorstellingen/10-october-lindenberg-steigerzaal-2-2-2/
LOCATION:Theater het Badhuis\, Daalseweg 262\, Nijmegen\, Gelderland\, 6523 CD\, Netherlands
ATTACH;FMTTYPE=image/png:https://theatergroeppit.nl/wp-content/uploads/2025/07/11-april-2026_square.png
END:VEVENT
BEGIN:VEVENT
DTSTART;TZID=Europe/Amsterdam:20260207T201500
DTEND;TZID=Europe/Amsterdam:20260207T223000
DTSTAMP:20260425T183333
CREATED:20250716T142435Z
LAST-MODIFIED:20260122T145753Z
UID:5256-1770495300-1770503400@theatergroeppit.nl
SUMMARY:7 Februari 2026  – Lindenberg Karolingenzaal
DESCRIPTION:
URL:https://theatergroeppit.nl/voorstellingen/10-october-lindenberg-steigerzaal-2-2/
LOCATION:Lindenberg Karolingenzaal\, Ridderstraat 23 6511 TM Nijmegen\, Nijmegen\, Gelderland\, 6511 TM\, Netherlands
ATTACH;FMTTYPE=image/png:https://theatergroeppit.nl/wp-content/uploads/2025/07/7-februari-2026_square.png
END:VEVENT
BEGIN:VEVENT
DTSTART;TZID=Europe/Amsterdam:20251213T201500
DTEND;TZID=Europe/Amsterdam:20251213T223000
DTSTAMP:20260425T183333
CREATED:20250716T142245Z
LAST-MODIFIED:20250718T150115Z
UID:5252-1765656900-1765665000@theatergroeppit.nl
SUMMARY:13 December 2025– Theater 't Hof\, Arnhem
DESCRIPTION:
URL:https://theatergroeppit.nl/voorstellingen/10-october-lindenberg-steigerzaal-2/
LOCATION:Theater ’t Hof\, Arnhem\, Boekhorstenstraat 58 6828 DV Arnhem\, Arnhem\, Gelderland\, 6828 DV\, Netherlands
ATTACH;FMTTYPE=image/png:https://theatergroeppit.nl/wp-content/uploads/2025/07/1320December20202520PIT20Theater20het20Hof20_20Arnhem201.png
END:VEVENT
BEGIN:VEVENT
DTSTART;TZID=Europe/Amsterdam:20251010T201500
DTEND;TZID=Europe/Amsterdam:20251010T223000
DTSTAMP:20260425T183333
CREATED:20250716T142115Z
LAST-MODIFIED:20251002T232228Z
UID:5246-1760127300-1760135400@theatergroeppit.nl
SUMMARY:10 Oktober 2025 – Lindenberg Steigerzaal
DESCRIPTION:
URL:https://theatergroeppit.nl/voorstellingen/10-october-lindenberg-steigerzaal/
LOCATION:Lindenberg Steigerzaal\, Netherlands
ATTACH;FMTTYPE=image/jpeg:https://theatergroeppit.nl/wp-content/uploads/2025/01/DV__0727-scaled-e1737556115881.jpg
END:VEVENT
END:VCALENDAR